BEGIN:VCALENDAR
VERSION:2.0
PRODID:-//Aviation Direct - ECPv6.15.20//NONSGML v1.0//EN
CALSCALE:GREGORIAN
METHOD:PUBLISH
X-ORIGINAL-URL:https://aviationdirect.co.za
X-WR-CALDESC:Events for Aviation Direct
REFRESH-INTERVAL;VALUE=DURATION:PT1H
X-Robots-Tag:noindex
X-PUBLISHED-TTL:PT1H
BEGIN:VTIMEZONE
TZID:Europe/Helsinki
BEGIN:DAYLIGHT
TZOFFSETFROM:+0200
TZOFFSETTO:+0300
TZNAME:EEST
DTSTART:20150329T010000
END:DAYLIGHT
BEGIN:STANDARD
TZOFFSETFROM:+0300
TZOFFSETTO:+0200
TZNAME:EET
DTSTART:20151025T010000
END:STANDARD
BEGIN:DAYLIGHT
TZOFFSETFROM:+0200
TZOFFSETTO:+0300
TZNAME:EEST
DTSTART:20160327T010000
END:DAYLIGHT
BEGIN:STANDARD
TZOFFSETFROM:+0300
TZOFFSETTO:+0200
TZNAME:EET
DTSTART:20161030T010000
END:STANDARD
BEGIN:DAYLIGHT
TZOFFSETFROM:+0200
TZOFFSETTO:+0300
TZNAME:EEST
DTSTART:20170326T010000
END:DAYLIGHT
BEGIN:STANDARD
TZOFFSETFROM:+0300
TZOFFSETTO:+0200
TZNAME:EET
DTSTART:20171029T010000
END:STANDARD
BEGIN:DAYLIGHT
TZOFFSETFROM:+0200
TZOFFSETTO:+0300
TZNAME:EEST
DTSTART:20180325T010000
END:DAYLIGHT
BEGIN:STANDARD
TZOFFSETFROM:+0300
TZOFFSETTO:+0200
TZNAME:EET
DTSTART:20181028T010000
END:STANDARD
BEGIN:DAYLIGHT
TZOFFSETFROM:+0200
TZOFFSETTO:+0300
TZNAME:EEST
DTSTART:20190331T010000
END:DAYLIGHT
BEGIN:STANDARD
TZOFFSETFROM:+0300
TZOFFSETTO:+0200
TZNAME:EET
DTSTART:20191027T010000
END:STANDARD
END:VTIMEZONE
BEGIN:VEVENT
DTSTART;VALUE=DATE:20180407
DTEND;VALUE=DATE:20180408
DTSTAMP:20260425T164012
CREATED:20180227T102748Z
LAST-MODIFIED:20180312T144530Z
UID:8218-1523059200-1523145599@aviationdirect.co.za
SUMMARY:Ermelo Airshow
DESCRIPTION:
URL:https://aviationdirect.co.za/event/ermelo-airshow/
LOCATION:Ermelo Airfield\, South Africa
CATEGORIES:Airshow
ORGANIZER;CN="Andre van Rooyen":MAILTO:tolderia@gmail.com
END:VEVENT
BEGIN:VEVENT
DTSTART;VALUE=DATE:20170624
DTEND;VALUE=DATE:20170625
DTSTAMP:20260425T164012
CREATED:20170306T085324Z
LAST-MODIFIED:20170306T085324Z
UID:5617-1498262400-1498348799@aviationdirect.co.za
SUMMARY:Middleburg Aero Club airshow
DESCRIPTION:
URL:https://aviationdirect.co.za/event/middleburg-aero-club-airshow/
CATEGORIES:Airshow
ORGANIZER;CN="Richard Lovett":MAILTO:mail@pegasusi.co.za
END:VEVENT
BEGIN:VEVENT
DTSTART;VALUE=DATE:20170619
DTEND;VALUE=DATE:20170626
DTSTAMP:20260425T164012
CREATED:20170303T080318Z
LAST-MODIFIED:20170303T080318Z
UID:5587-1497830400-1498435199@aviationdirect.co.za
SUMMARY:2017 International Paris Air Show\, Paris-Le Bourget
DESCRIPTION:
URL:https://aviationdirect.co.za/event/2017-international-paris-air-show-paris-le-bourget/
LOCATION:Le Bourget\, Aéroport de Paris - Le Bourget \, France
CATEGORIES:Airshow,Conference/ Meeting,Expo
END:VEVENT
BEGIN:VEVENT
DTSTART;VALUE=DATE:20170615
DTEND;VALUE=DATE:20170617
DTSTAMP:20260425T164012
CREATED:20161213T100042Z
LAST-MODIFIED:20170526T110048Z
UID:4935-1497484800-1497657599@aviationdirect.co.za
SUMMARY:Lowveld Airshow Nelspruit
DESCRIPTION:
URL:https://aviationdirect.co.za/event/lowveld-airshow/
LOCATION:Nelspruit Lowveld Airshow
CATEGORIES:Airshow
ORGANIZER;CN="Willemien Hodgkinson":MAILTO:willemien.hodgkinson@kishugu.com 
END:VEVENT
BEGIN:VEVENT
DTSTART;VALUE=DATE:20170613
DTEND;VALUE=DATE:20170615
DTSTAMP:20260425T164012
CREATED:20170105T075935Z
LAST-MODIFIED:20170105T075935Z
UID:5096-1497312000-1497484799@aviationdirect.co.za
SUMMARY:Aviation Festival
DESCRIPTION:It is estimated that 20% of the world’s population will be living in Africa within the next 20 years. The\nAfrica story has meant that consumer demands\, expectations\, lifestyles and business needs are changing\ndrastically. \nAnd this is set to dramatically impact travel patterns across the continent.\nAfrica therefore presents massive potential in terms of economic development\, growth opportunities and\nair travel. \nIt is clear that aviation is and will continue to be the best and most efficient way to connect Africa’s\ncountries – and indeed to the rest of the world. \nAirlines and airports are set to cash in. But they need to invest\, build & innovate. \nThe Aviation Festival is here to show the industry how to pioneer in this dynamic market.\nBy bringing global experts and world leading case studies to Africa – we are the one place for airlines\,\nairports and their partners to learn how to win new business through the convergence of technology\,\ncustomer experience and new revenue streams. And now there are more events under the aviation festival\nbanner that will cater to full-service airlines and to airports. \n  \nIn 2017\, the Aviation Festival will host over 1500 attendees\, 80 conference speakers\, 300 conference\ndelegates and 40 exhibition booths. \nOver 200 airlines and airports will be represented. \nThe festival will take place over two days with over 50 presentations taking place\, 20 roundtable debates\nand loads of networking. The festival will be an experience and one designed to help the attendees get\nthe most out of the two days.\nIf you want to meet senior executives and potential business partners in the\nAfrican Aviation industry\, then this the perfect platform for you.
URL:https://aviationdirect.co.za/event/aviation-festival/
LOCATION:Sandton Convention Centre Terrapinn  Ltd
CATEGORIES:Airshow,Conference/ Meeting,Expo
ORGANIZER;CN="Roschan van der Haar":MAILTO:Roschan.vanderHaar@terrapinn.com
END:VEVENT
BEGIN:VEVENT
DTSTART;VALUE=DATE:20170610
DTEND;VALUE=DATE:20170612
DTSTAMP:20260425T164012
CREATED:20161213T105738Z
LAST-MODIFIED:20161213T105738Z
UID:4960-1497052800-1497225599@aviationdirect.co.za
SUMMARY:Wonderboom Adrenaline Show
DESCRIPTION:
URL:https://aviationdirect.co.za/event/wonderboom-adrenaline-show/
LOCATION:Wonderboom
CATEGORIES:Airshow
ORGANIZER;CN="Chris Briers":MAILTO:chris@briersgroup.com
END:VEVENT
BEGIN:VEVENT
DTSTART;VALUE=DATE:20170602
DTEND;VALUE=DATE:20170604
DTSTAMP:20260425T164013
CREATED:20161213T103259Z
LAST-MODIFIED:20161213T103259Z
UID:4955-1496361600-1496534399@aviationdirect.co.za
SUMMARY:Newcastle Airshow
DESCRIPTION:
URL:https://aviationdirect.co.za/event/newcastle-airshow/
LOCATION:Newcastle
CATEGORIES:Airshow
ORGANIZER;CN="Johan Pieters":MAILTO:johan@champ.co.za
END:VEVENT
BEGIN:VEVENT
DTSTART;VALUE=DATE:20170527
DTEND;VALUE=DATE:20170528
DTSTAMP:20260425T164013
CREATED:20161213T102120Z
LAST-MODIFIED:20161213T102803Z
UID:4944-1495843200-1495929599@aviationdirect.co.za
SUMMARY:Botswana International airshow
DESCRIPTION:
URL:https://aviationdirect.co.za/event/botswana-international-airshow/
LOCATION:Matsieng Airfield (FBMA)
CATEGORIES:Airshow
ORGANIZER;CN="Guillaume Knipe":MAILTO:Gknipe@work.co.bw 
END:VEVENT
BEGIN:VEVENT
DTSTART;VALUE=DATE:20170515
DTEND;VALUE=DATE:20170518
DTSTAMP:20260425T164013
CREATED:20161213T094621Z
LAST-MODIFIED:20161213T094621Z
UID:4927-1494806400-1495065599@aviationdirect.co.za
SUMMARY:Airport show in Dubai
DESCRIPTION:
URL:https://aviationdirect.co.za/event/airport-show-in-dubai/
LOCATION:Dubai International Convention and Exhibition Centre (DICEC)
CATEGORIES:Airshow
ORGANIZER;CN="Reed Exhibitions Middle East":MAILTO:ria.andaya@reedexpo.ae
END:VEVENT
BEGIN:VEVENT
DTSTART;TZID=Europe/Helsinki:20170331T080000
DTEND;TZID=Europe/Helsinki:20170401T170000
DTSTAMP:20260425T164013
CREATED:20161129T092651Z
LAST-MODIFIED:20161129T093017Z
UID:4764-1490947200-1491066000@aviationdirect.co.za
SUMMARY:Wings and Wheels Festival
DESCRIPTION:
URL:https://aviationdirect.co.za/event/wings-and-wheels-festival/
LOCATION:Uitenhage Airfield
CATEGORIES:Airshow
ORGANIZER;CN="Lourens Kruger":MAILTO:imk@trlkomsa.net
END:VEVENT
BEGIN:VEVENT
DTSTART;VALUE=DATE:20170330
DTEND;VALUE=DATE:20170410
DTSTAMP:20260425T164013
CREATED:20161129T091808Z
LAST-MODIFIED:20161129T091808Z
UID:4758-1490832000-1491782399@aviationdirect.co.za
SUMMARY:Stars of Sandstone Festival - Spectacular steam and vintage heritage
DESCRIPTION:
URL:https://aviationdirect.co.za/event/stars-of-sandstone-festival-spectacular-steam-and-vintage-heritage/
LOCATION:Ficksburg
CATEGORIES:Airshow
ORGANIZER;CN="Larissa Clarke":MAILTO:lclarke@sandstone.co.za
END:VEVENT
BEGIN:VEVENT
DTSTART;VALUE=DATE:20170310
DTEND;VALUE=DATE:20170313
DTSTAMP:20260425T164013
CREATED:20170227T121050Z
LAST-MODIFIED:20170227T121050Z
UID:5531-1489104000-1489363199@aviationdirect.co.za
SUMMARY:The Aero Club Air Week
DESCRIPTION: 
URL:https://aviationdirect.co.za/event/the-aero-club-air-week-2/
LOCATION:Parys Airfield
CATEGORIES:Airshow,Expo,Fun
ORGANIZER;CN="Aero Club of SA":MAILTO:alan@aeroclub.org.za
END:VEVENT
BEGIN:VEVENT
DTSTART;VALUE=DATE:20170306
DTEND;VALUE=DATE:20170310
DTSTAMP:20260425T164013
CREATED:20170228T070806Z
LAST-MODIFIED:20170228T071918Z
UID:5539-1488758400-1489103999@aviationdirect.co.za
SUMMARY:HAI HELI-EXPO
DESCRIPTION:
URL:https://aviationdirect.co.za/event/hai-heli-expo-2/
LOCATION:Dallas\, Texas\, USA
CATEGORIES:Airshow,Expo
END:VEVENT
BEGIN:VEVENT
DTSTART;VALUE=DATE:20170306
DTEND;VALUE=DATE:20170310
DTSTAMP:20260425T164013
CREATED:20161130T102503Z
LAST-MODIFIED:20170227T115303Z
UID:4782-1488758400-1489103999@aviationdirect.co.za
SUMMARY:HAI HELI-EXPO
DESCRIPTION:
URL:https://aviationdirect.co.za/event/hai-heli-expo/
LOCATION:Dallas\, Texas\, USA
CATEGORIES:Airshow,Expo
ORGANIZER;CN="Karen Gebhart":MAILTO:karen.gebhart@rotor.org
END:VEVENT
BEGIN:VEVENT
DTSTART;VALUE=DATE:20170210
DTEND;VALUE=DATE:20170213
DTSTAMP:20260425T164013
CREATED:20161129T083446Z
LAST-MODIFIED:20161129T083446Z
UID:4754-1486684800-1486943999@aviationdirect.co.za
SUMMARY:The Aero Club Air Week
DESCRIPTION:
URL:https://aviationdirect.co.za/event/the-aero-club-air-week/
LOCATION:Parys Airfield
CATEGORIES:Airshow
ORGANIZER;CN="Sandra Strydom":MAILTO:office@aeroclub.org.za
END:VEVENT
BEGIN:VEVENT
DTSTART;VALUE=DATE:20161203
DTEND;VALUE=DATE:20161205
DTSTAMP:20260425T164013
CREATED:20161128T061821Z
LAST-MODIFIED:20161128T061821Z
UID:4727-1480723200-1480895999@aviationdirect.co.za
SUMMARY:SAC ACE of Base\, Bara G
DESCRIPTION:
URL:https://aviationdirect.co.za/event/sac-ace-of-base-bara-g/
LOCATION:Baragwanath Airfield
CATEGORIES:Airshow
END:VEVENT
BEGIN:VEVENT
DTSTART;TZID=Europe/Helsinki:20161118T080000
DTEND;TZID=Europe/Helsinki:20161118T170000
DTSTAMP:20260425T164013
CREATED:20161118T102826Z
LAST-MODIFIED:20161118T102826Z
UID:4673-1479456000-1479488400@aviationdirect.co.za
SUMMARY:Women of Aviation world wide week
DESCRIPTION:
URL:https://aviationdirect.co.za/event/women-of-aviation-world-wide-week/
LOCATION:International
CATEGORIES:Airshow,fly-in,Fun,Military
END:VEVENT
END:VCALENDAR