BEGIN:VCALENDAR
VERSION:2.0
PRODID:-//Aviation Direct - ECPv6.15.20//NONSGML v1.0//EN
CALSCALE:GREGORIAN
METHOD:PUBLISH
X-WR-CALNAME:Aviation Direct
X-ORIGINAL-URL:https://aviationdirect.co.za
X-WR-CALDESC:Events for Aviation Direct
REFRESH-INTERVAL;VALUE=DURATION:PT1H
X-Robots-Tag:noindex
X-PUBLISHED-TTL:PT1H
BEGIN:VTIMEZONE
TZID:Europe/Helsinki
BEGIN:DAYLIGHT
TZOFFSETFROM:+0200
TZOFFSETTO:+0300
TZNAME:EEST
DTSTART:20150329T010000
END:DAYLIGHT
BEGIN:STANDARD
TZOFFSETFROM:+0300
TZOFFSETTO:+0200
TZNAME:EET
DTSTART:20151025T010000
END:STANDARD
BEGIN:DAYLIGHT
TZOFFSETFROM:+0200
TZOFFSETTO:+0300
TZNAME:EEST
DTSTART:20160327T010000
END:DAYLIGHT
BEGIN:STANDARD
TZOFFSETFROM:+0300
TZOFFSETTO:+0200
TZNAME:EET
DTSTART:20161030T010000
END:STANDARD
BEGIN:DAYLIGHT
TZOFFSETFROM:+0200
TZOFFSETTO:+0300
TZNAME:EEST
DTSTART:20170326T010000
END:DAYLIGHT
BEGIN:STANDARD
TZOFFSETFROM:+0300
TZOFFSETTO:+0200
TZNAME:EET
DTSTART:20171029T010000
END:STANDARD
BEGIN:DAYLIGHT
TZOFFSETFROM:+0200
TZOFFSETTO:+0300
TZNAME:EEST
DTSTART:20180325T010000
END:DAYLIGHT
BEGIN:STANDARD
TZOFFSETFROM:+0300
TZOFFSETTO:+0200
TZNAME:EET
DTSTART:20181028T010000
END:STANDARD
BEGIN:DAYLIGHT
TZOFFSETFROM:+0200
TZOFFSETTO:+0300
TZNAME:EEST
DTSTART:20190331T010000
END:DAYLIGHT
BEGIN:STANDARD
TZOFFSETFROM:+0300
TZOFFSETTO:+0200
TZNAME:EET
DTSTART:20191027T010000
END:STANDARD
END:VTIMEZONE
BEGIN:VEVENT
DTSTART;TZID=Europe/Helsinki:20180421T070000
DTEND;TZID=Europe/Helsinki:20180421T113000
DTSTAMP:20260425T163842
CREATED:20180228T135204Z
LAST-MODIFIED:20180312T154332Z
UID:8354-1524294000-1524310200@aviationdirect.co.za
SUMMARY:Aviators Paradise Autumn Breakfast Fly In
DESCRIPTION:
URL:https://aviationdirect.co.za/event/aviators-paradise-autumn-breakfast-fly/
LOCATION:Aviators Paradise (FAAP)\, South Africa
CATEGORIES:fly-in
END:VEVENT
BEGIN:VEVENT
DTSTART;VALUE=DATE:20170505
DTEND;VALUE=DATE:20170507
DTSTAMP:20260425T163842
CREATED:20161213T094105Z
LAST-MODIFIED:20161213T094105Z
UID:4922-1493942400-1494115199@aviationdirect.co.za
SUMMARY:Battlefields' Sports Resorts' annual fly in
DESCRIPTION:
URL:https://aviationdirect.co.za/event/battlefields-sports-resorts-annual-fly-in/
LOCATION:Dundee KZN\, GPS: LAT 28º02’ 53.5” EAST 30º17’ 25.5”
CATEGORIES:fly-in
ORGANIZER;CN="Dave O%E2%80%99 Halloran":MAILTO:gm@battlefieldslodge.co.za
END:VEVENT
BEGIN:VEVENT
DTSTART;TZID=Europe/Helsinki:20161118T080000
DTEND;TZID=Europe/Helsinki:20161118T170000
DTSTAMP:20260425T163842
CREATED:20161118T102826Z
LAST-MODIFIED:20161118T102826Z
UID:4673-1479456000-1479488400@aviationdirect.co.za
SUMMARY:Women of Aviation world wide week
DESCRIPTION:
URL:https://aviationdirect.co.za/event/women-of-aviation-world-wide-week/
LOCATION:International
CATEGORIES:Airshow,fly-in,Fun,Military
END:VEVENT
END:VCALENDAR