BEGIN:VCALENDAR
VERSION:2.0
PRODID:-//Aviation Direct - ECPv6.15.20//NONSGML v1.0//EN
CALSCALE:GREGORIAN
METHOD:PUBLISH
X-ORIGINAL-URL:https://aviationdirect.co.za
X-WR-CALDESC:Events for Aviation Direct
REFRESH-INTERVAL;VALUE=DURATION:PT1H
X-Robots-Tag:noindex
X-PUBLISHED-TTL:PT1H
BEGIN:VTIMEZONE
TZID:Europe/Helsinki
BEGIN:DAYLIGHT
TZOFFSETFROM:+0200
TZOFFSETTO:+0300
TZNAME:EEST
DTSTART:20160327T010000
END:DAYLIGHT
BEGIN:STANDARD
TZOFFSETFROM:+0300
TZOFFSETTO:+0200
TZNAME:EET
DTSTART:20161030T010000
END:STANDARD
BEGIN:DAYLIGHT
TZOFFSETFROM:+0200
TZOFFSETTO:+0300
TZNAME:EEST
DTSTART:20170326T010000
END:DAYLIGHT
BEGIN:STANDARD
TZOFFSETFROM:+0300
TZOFFSETTO:+0200
TZNAME:EET
DTSTART:20171029T010000
END:STANDARD
BEGIN:DAYLIGHT
TZOFFSETFROM:+0200
TZOFFSETTO:+0300
TZNAME:EEST
DTSTART:20180325T010000
END:DAYLIGHT
BEGIN:STANDARD
TZOFFSETFROM:+0300
TZOFFSETTO:+0200
TZNAME:EET
DTSTART:20181028T010000
END:STANDARD
END:VTIMEZONE
BEGIN:VEVENT
DTSTART;VALUE=DATE:20170629
DTEND;VALUE=DATE:20170703
DTSTAMP:20260425T194130
CREATED:20170629T120827Z
LAST-MODIFIED:20170629T121018Z
UID:6257-1498694400-1499039999@aviationdirect.co.za
SUMMARY:Race for Rhinos\, Botswana 2017
DESCRIPTION:
URL:https://aviationdirect.co.za/event/race-for-rhinos-botswana-2017/
LOCATION:Kubu Isalnd\, Botswana
CATEGORIES:Race
ORGANIZER;CN="Chris Briers":MAILTO:chris@briersgroup.com
END:VEVENT
BEGIN:VEVENT
DTSTART;VALUE=DATE:20170526
DTEND;VALUE=DATE:20170529
DTSTAMP:20260425T194130
CREATED:20161213T101334Z
LAST-MODIFIED:20161213T101334Z
UID:4940-1495756800-1496015999@aviationdirect.co.za
SUMMARY:SAPFA President's Trophy Air Race
DESCRIPTION:
URL:https://aviationdirect.co.za/event/sapfa-presidents-trophy-air-race/
LOCATION:Springs Aero Club
CATEGORIES:Race
ORGANIZER;CN="Robbie Myburgh":MAILTO:roblena@mweb.co.za
END:VEVENT
END:VCALENDAR