BEGIN:VCALENDAR
VERSION:2.0
PRODID:-//Aviation Direct - ECPv6.15.20//NONSGML v1.0//EN
CALSCALE:GREGORIAN
METHOD:PUBLISH
X-ORIGINAL-URL:https://aviationdirect.co.za
X-WR-CALDESC:Events for Aviation Direct
REFRESH-INTERVAL;VALUE=DURATION:PT1H
X-Robots-Tag:noindex
X-PUBLISHED-TTL:PT1H
BEGIN:VTIMEZONE
TZID:Europe/Helsinki
BEGIN:DAYLIGHT
TZOFFSETFROM:+0200
TZOFFSETTO:+0300
TZNAME:EEST
DTSTART:20160327T010000
END:DAYLIGHT
BEGIN:STANDARD
TZOFFSETFROM:+0300
TZOFFSETTO:+0200
TZNAME:EET
DTSTART:20161030T010000
END:STANDARD
BEGIN:DAYLIGHT
TZOFFSETFROM:+0200
TZOFFSETTO:+0300
TZNAME:EEST
DTSTART:20170326T010000
END:DAYLIGHT
BEGIN:STANDARD
TZOFFSETFROM:+0300
TZOFFSETTO:+0200
TZNAME:EET
DTSTART:20171029T010000
END:STANDARD
BEGIN:DAYLIGHT
TZOFFSETFROM:+0200
TZOFFSETTO:+0300
TZNAME:EEST
DTSTART:20180325T010000
END:DAYLIGHT
BEGIN:STANDARD
TZOFFSETFROM:+0300
TZOFFSETTO:+0200
TZNAME:EET
DTSTART:20181028T010000
END:STANDARD
BEGIN:DAYLIGHT
TZOFFSETFROM:+0200
TZOFFSETTO:+0300
TZNAME:EEST
DTSTART:20190331T010000
END:DAYLIGHT
BEGIN:STANDARD
TZOFFSETFROM:+0300
TZOFFSETTO:+0200
TZNAME:EET
DTSTART:20191027T010000
END:STANDARD
END:VTIMEZONE
BEGIN:VEVENT
DTSTART;VALUE=DATE:20180524
DTEND;VALUE=DATE:20180527
DTSTAMP:20260421T185156
CREATED:20180227T132406Z
LAST-MODIFIED:20180227T132406Z
UID:8268-1527120000-1527379199@aviationdirect.co.za
SUMMARY:President’s Trophy Air Race 2018
DESCRIPTION:
URL:https://aviationdirect.co.za/event/presidents-trophy-air-race-2018/
LOCATION:Bloemfontein New Tempe Airport
ORGANIZER;CN="Rob Jonkers":MAILTO:Race@sapfa.org.za
END:VEVENT
BEGIN:VEVENT
DTSTART;TZID=Europe/Helsinki:20180519T080000
DTEND;TZID=Europe/Helsinki:20180520T170000
DTSTAMP:20260421T185156
CREATED:20180227T122125Z
LAST-MODIFIED:20180227T122205Z
UID:8263-1526716800-1526835600@aviationdirect.co.za
SUMMARY:SAC Free State Regionals
DESCRIPTION:
URL:https://aviationdirect.co.za/event/ac-free-state-regionals/
LOCATION:Bloemfontein New Tempe Airport
ORGANIZER;CN="Annie Boon":MAILTO:chunge@mweb.co.za
END:VEVENT
BEGIN:VEVENT
DTSTART;VALUE=DATE:20180519
DTEND;VALUE=DATE:20180520
DTSTAMP:20260421T185156
CREATED:20180228T113721Z
LAST-MODIFIED:20180228T113721Z
UID:8328-1526688000-1526774399@aviationdirect.co.za
SUMMARY:Hartswater - Eagle Flight Academy Fly In & Stay Over
DESCRIPTION:
URL:https://aviationdirect.co.za/event/hartswater-eagle-flight-academy-fly-stay/
LOCATION:Hartswater Airfield\, South Africa
ORGANIZER;CN="DJ Lubbe":MAILTO:info@eagleflight.co.za
END:VEVENT
BEGIN:VEVENT
DTSTART;VALUE=DATE:20180515
DTEND;VALUE=DATE:20180519
DTSTAMP:20260421T185156
CREATED:20180227T121110Z
LAST-MODIFIED:20180227T140851Z
UID:8253-1526342400-1526687999@aviationdirect.co.za
SUMMARY:NAMPO Agricultural Trade Show
DESCRIPTION:
URL:https://aviationdirect.co.za/event/nampo-agricultural-trade-show/
LOCATION:NAMPO Park\, R30\, Bothaville 9660
ORGANIZER;CN="GrainsSA":MAILTO:naevra@grainsa.co.za
END:VEVENT
BEGIN:VEVENT
DTSTART;VALUE=DATE:20180512
DTEND;VALUE=DATE:20180513
DTSTAMP:20260421T185156
CREATED:20180227T120408Z
LAST-MODIFIED:20180227T120408Z
UID:8249-1526083200-1526169599@aviationdirect.co.za
SUMMARY:Swellengrebel Flying Club 60th Birthday fly-in
DESCRIPTION:
URL:https://aviationdirect.co.za/event/swellengrebel-flying-club-60th-birthday-fly/
LOCATION:Swellengrebel Flying Club\, South Africa
END:VEVENT
BEGIN:VEVENT
DTSTART;VALUE=DATE:20180512
DTEND;VALUE=DATE:20180513
DTSTAMP:20260421T185156
CREATED:20180227T115312Z
LAST-MODIFIED:20180227T115312Z
UID:8246-1526083200-1526169599@aviationdirect.co.za
SUMMARY:Lowveld Airshow @ Nelspruit Airfield
DESCRIPTION:
URL:https://aviationdirect.co.za/event/lowveld-airshow-nelspruit-airfield/
LOCATION:Nelspruit Lowveld Airshow
ORGANIZER;CN="Monica Fourie":MAILTO:monica.fourie@kishugu.com
END:VEVENT
BEGIN:VEVENT
DTSTART;VALUE=DATE:20180512
DTEND;VALUE=DATE:20180513
DTSTAMP:20260421T185156
CREATED:20180227T115024Z
LAST-MODIFIED:20180312T170133Z
UID:8244-1526083200-1526169599@aviationdirect.co.za
SUMMARY:SAPFA Sheila Taylor Fun Rally
DESCRIPTION:
URL:https://aviationdirect.co.za/event/sapfa-sheila-taylor-fun-rally/
LOCATION:Krugersdorp Flying Club
CATEGORIES:Competition
ORGANIZER;CN="Rob Jonkers":MAILTO:Race@sapfa.org.za
END:VEVENT
BEGIN:VEVENT
DTSTART;TZID=Europe/Helsinki:20180511T080000
DTEND;TZID=Europe/Helsinki:20180513T170000
DTSTAMP:20260421T185156
CREATED:20180227T141550Z
LAST-MODIFIED:20180227T141550Z
UID:8293-1526025600-1526230800@aviationdirect.co.za
SUMMARY:Battlefields Fly In Weekend 2018
DESCRIPTION:
URL:https://aviationdirect.co.za/event/battlefields-fly-weekend-2018/
LOCATION:Battlefields Lodge Airfield\, South Africa
ORGANIZER;CN="Dave O%E2%80%99Halloran%C2%A0":MAILTO:gm@battlefieldslodge.co.za
END:VEVENT
BEGIN:VEVENT
DTSTART;VALUE=DATE:20180505
DTEND;VALUE=DATE:20180506
DTSTAMP:20260421T185156
CREATED:20180227T113508Z
LAST-MODIFIED:20180227T113508Z
UID:8240-1525478400-1525564799@aviationdirect.co.za
SUMMARY:SAAF Museum Airshow Swartkops
DESCRIPTION:
URL:https://aviationdirect.co.za/event/saaf-museum-airshow-swartkops/
LOCATION:Swartkops Airforce Base\, South Africa
ORGANIZER;CN="Officer Commanding":MAILTO:oc@saafmuseum.org.za
END:VEVENT
BEGIN:VEVENT
DTSTART;TZID=Europe/Helsinki:20180427T080000
DTEND;TZID=Europe/Helsinki:20180501T170000
DTSTAMP:20260421T185156
CREATED:20180227T110014Z
LAST-MODIFIED:20180228T122406Z
UID:8234-1524816000-1525194000@aviationdirect.co.za
SUMMARY:NAC Annual Fly Away
DESCRIPTION:
URL:https://aviationdirect.co.za/event/nac-annual-fly-away/
LOCATION:Beaufort West – Gariep\, South Africa
ORGANIZER;CN="Deneys Potgieter":MAILTO:deneys.potgieter@nac.co.za
END:VEVENT
BEGIN:VEVENT
DTSTART;VALUE=DATE:20180427
DTEND;VALUE=DATE:20180430
DTSTAMP:20260421T185156
CREATED:20171211T134535Z
LAST-MODIFIED:20180312T162118Z
UID:7746-1524787200-1525046399@aviationdirect.co.za
SUMMARY:EAA Fly Away & Convention : 27-29 April 2018 : All welcome : Vryheid Airfield
DESCRIPTION:EAA of South Africa National Convention : 27-29 April 2018 \nFriday 27th April and Tuesday 1 May are both holidays \nVryheid Town welcomes EAA to hold their Annual Convention at the Airfield \nCamping\, Novel Aircraft on display\, Vintage Cars and great hospitality from Vryheid Wings Club !
URL:https://aviationdirect.co.za/event/7746/
LOCATION:Vryheid Airfield\, KwaZulu Natal\, South Africa
CATEGORIES:Fly-away
ORGANIZER;CN="EAA of South Africa":MAILTO:rsvp@eaa.org.za
END:VEVENT
BEGIN:VEVENT
DTSTART;TZID=Europe/Helsinki:20180426T080000
DTEND;TZID=Europe/Helsinki:20180429T170000
DTSTAMP:20260421T185156
CREATED:20180227T133658Z
LAST-MODIFIED:20180227T133658Z
UID:8275-1524729600-1525021200@aviationdirect.co.za
SUMMARY:AfrikaBurn @ Tankwa\, Karoo
DESCRIPTION:General Airspace Info\nThe AfrikaBurn strip is a VFR day private strip – you need permission to land\, plus an allocation number which is linked to you inbound and out bound flight. \nYou and your PAX entering AfrikaBurn need a valid ticket. \n\nEach aircraft landing will need to pay a landing fee.\nFrom Thursday a landing fee of R150 per pax will be charged\nYour allocation number will be requested on first contact – call 120.2 (monitor 124.8) Tankwa ground advisory within a minimum of 10 miles.\nThe ATZ 3000/GND should be respected\, for safety reasons – see the map.\n\nYou can join the AfrikaBurn Airspace Facebook page here. \nYou will need: \n\nA copy of the latest Jungle-Jepp airspace map.\nAn aircraft\nA radio to call 120.2 MHz at 10NM.\nAn allocation number.\nAn AfrikaBurn ticket for each person wishing to enter the event (this applies to flight crew as well unless they’re not entering the event).\n\nRecommended Reading: if you’ve never flown to AfrikaBurn before\, read up on the experiences of first-timers. Thanks to SAFlyer for allowing us to republish their article. \nFlight registrations and allocations are not open yet.  (expect 4th week of Feb) \n  \n \nThere is important information associated with the use of this particular airstrip and you must familiarise yourself with the advisory airspace and receive an allocation number. \nBy flying in and landing on this strip you automatically acknowledge our indemnity clauses associated with the AfrikaBurn ticketing and use of the strip. \nIf flying in and intending to enter the event (helicopter or fixed wing) YOU STILL NEED A TICKET TO AFRIKABURN. Don’t get in the plane without one. In order to get tickets\, please visit our Tickets page. \n \nTwitter: twitter.com/afrikaburn Instagram: instagram.com/afrikaburn/
URL:https://aviationdirect.co.za/event/afrikaburn-tankwa-karoo/
LOCATION:Tankwa\, Karoo\, South Africa
ORGANIZER;CN="Afrika Burn":MAILTO:info@afrikaburn.com
END:VEVENT
BEGIN:VEVENT
DTSTART;TZID=Europe/Helsinki:20180421T070000
DTEND;TZID=Europe/Helsinki:20180421T113000
DTSTAMP:20260421T185156
CREATED:20180228T135204Z
LAST-MODIFIED:20180312T154332Z
UID:8354-1524294000-1524310200@aviationdirect.co.za
SUMMARY:Aviators Paradise Autumn Breakfast Fly In
DESCRIPTION:
URL:https://aviationdirect.co.za/event/aviators-paradise-autumn-breakfast-fly/
LOCATION:Aviators Paradise (FAAP)\, South Africa
CATEGORIES:fly-in
END:VEVENT
BEGIN:VEVENT
DTSTART;VALUE=DATE:20180421
DTEND;VALUE=DATE:20180423
DTSTAMP:20260421T185156
CREATED:20180227T105340Z
LAST-MODIFIED:20180227T105340Z
UID:8231-1524268800-1524441599@aviationdirect.co.za
SUMMARY:SAC KNZ Regionals
DESCRIPTION:
URL:https://aviationdirect.co.za/event/sac-knz-regionals/
LOCATION:Ladysmith\, KZN
ORGANIZER;CN="Annie Boon":MAILTO:chunge@mweb.co.za
END:VEVENT
BEGIN:VEVENT
DTSTART;VALUE=DATE:20180414
DTEND;VALUE=DATE:20180415
DTSTAMP:20260421T185156
CREATED:20180227T104608Z
LAST-MODIFIED:20180227T104826Z
UID:8226-1523664000-1523750399@aviationdirect.co.za
SUMMARY:Robertson Annual Fly-in breakfast
DESCRIPTION:
URL:https://aviationdirect.co.za/event/robertson-annual-fly-breakfast/
LOCATION:Robertsons Airfield\, South Africa
ORGANIZER;CN="Alwyn du Plassis":MAILTO:boeredata@breede.co.za
END:VEVENT
BEGIN:VEVENT
DTSTART;TZID=Europe/Helsinki:20180413T080000
DTEND;TZID=Europe/Helsinki:20180415T170000
DTSTAMP:20260421T185156
CREATED:20180228T132935Z
LAST-MODIFIED:20180228T133117Z
UID:8349-1523606400-1523811600@aviationdirect.co.za
SUMMARY:Swazi Fly Inn - Tshaneni Airfield
DESCRIPTION:Location:Tshaneni Airfield(ICAO: FDTS ) \nWhen: Friday 13 April to Sunday 15 April 2018 \nAviators are invited to join us for a weekend of flying in the Kingdom of Swaziland on the weekend of the 15th\, 16th\, and 17th April 2018. \nExperience the adventure of a cross border flight and the enjoyment of spending a weekend flying in the company of like-minded people in the lush Swaziland Low veld. \nCamping\, with meals and bar facilities are available as is limited Guest House and Backpacker style accommodation\, all within walking distance of the airfield. \nRegulatory requirements are that a permit to fly NTC aircraft in Swaziland is issued by the Swaziland Civil Aviation Authority. This will be issued for the weekend 13th – 15th April 2018 and will require visiting pilots to submit a valid pilot’s licence\, and a valid RAASA issued Authority to Fly for the visiting NTC aircraft. \nAviation Information: \nPort of Entry\, Swaziland: King Mswati III International Airport.   ICAO:FDSK \nCoordinates: S26°21.52′ / E31°43.03′.\nElevation is 1092.0 feet MSL. \nAsphalt Runway\, 3600m 02/20 \nFuel Available: JetA1 only \nApproach Freq:128.0 \nTower Freq:118.55 \nSwaziland GA Freq:125.0 \nTshaneni Airfield: ICAO:FDTS \nUnmanned \nCoordinates: S25°59.00′ / E31°45.00′\nElevation is 1020.0 feet MSL. \nGrass Runway\, 1050m Swaziland GA Freq:125.0 \nFuel Available: Mogas Only\, a bit cheaper than South Africa \nAccommodation Options and Information: \nCamping “Under Wing” R100.00/Couple/night \nGuest House accommodation: \nPlease contact Mananga Lodge\, \ninfo@manangalodge.com \, \n+268 2323 2404\, +268 7602 9172 for bookings. \nDouble room at Guest house 2 R781.00/Night \nDouble room at Guest house 3 R713.00/Night \nBackpacker’s Unit which sleeps 10 R1700.00/Night for the unit \nCatering Information: \nDinner Braai cost is E120.00 per person (steak\, wors\, pork chop\, pap\, gravy and salads) \nBreakfast is E63.00 per person \nBar and restaurant facilities are available \n 
URL:https://aviationdirect.co.za/event/swazi-fly-inn-tshaneni-airfield/
LOCATION:Tshaneni Airfield (FDTS) 
END:VEVENT
BEGIN:VEVENT
DTSTART;TZID=Europe/Helsinki:20180412T080000
DTEND;TZID=Europe/Helsinki:20180414T170000
DTSTAMP:20260421T185156
CREATED:20180227T104227Z
LAST-MODIFIED:20180227T104227Z
UID:8224-1523520000-1523725200@aviationdirect.co.za
SUMMARY:SAPFA Rally Nationals and Fun Rally
DESCRIPTION:
URL:https://aviationdirect.co.za/event/sapfa-rally-nationals-fun-rally/
LOCATION:Brits Airfield\, Northern Province\, South Africa
ORGANIZER;CN="Frank Eckhart":MAILTO:frank.eckard@mweb.co.za
END:VEVENT
BEGIN:VEVENT
DTSTART;VALUE=DATE:20180407
DTEND;VALUE=DATE:20180408
DTSTAMP:20260421T185156
CREATED:20180227T102748Z
LAST-MODIFIED:20180312T144530Z
UID:8218-1523059200-1523145599@aviationdirect.co.za
SUMMARY:Ermelo Airshow
DESCRIPTION:
URL:https://aviationdirect.co.za/event/ermelo-airshow/
LOCATION:Ermelo Airfield\, South Africa
CATEGORIES:Airshow
ORGANIZER;CN="Andre van Rooyen":MAILTO:tolderia@gmail.com
END:VEVENT
BEGIN:VEVENT
DTSTART;TZID=Europe/Helsinki:20180331T070000
DTEND;TZID=Europe/Helsinki:20180331T110000
DTSTAMP:20260421T185156
CREATED:20180228T112721Z
LAST-MODIFIED:20180312T140449Z
UID:8322-1522479600-1522494000@aviationdirect.co.za
SUMMARY:Witbank Breakfast Fly In
DESCRIPTION:
URL:https://aviationdirect.co.za/event/witbank-breakfast-fly/
LOCATION:Witbank Airfield\, South Africa
ORGANIZER;CN="Robert Clark":MAILTO:Comms@flywaa.co.za
END:VEVENT
BEGIN:VEVENT
DTSTART;VALUE=DATE:20180328
DTEND;VALUE=DATE:20180329
DTSTAMP:20260421T185156
CREATED:20180227T134615Z
LAST-MODIFIED:20180227T134615Z
UID:8282-1522195200-1522281599@aviationdirect.co.za
SUMMARY:SA National Skydiving Championships
DESCRIPTION:
URL:https://aviationdirect.co.za/event/sa-national-skydiving-championships/
LOCATION:Rustenburg Airfield
ORGANIZER;CN="Danelle Field":MAILTO:skydive.rustenburg@gmail.com
END:VEVENT
BEGIN:VEVENT
DTSTART;TZID=Europe/Helsinki:20180310T100000
DTEND;TZID=Europe/Helsinki:20180310T140000
DTSTAMP:20260421T185156
CREATED:20180227T100140Z
LAST-MODIFIED:20180227T100401Z
UID:8215-1520676000-1520690400@aviationdirect.co.za
SUMMARY:Springs Airfield Aviation Day
DESCRIPTION:
URL:https://aviationdirect.co.za/event/springs-airfield-aviation-day/
LOCATION:Springs Aero Club
END:VEVENT
BEGIN:VEVENT
DTSTART;VALUE=DATE:20180309
DTEND;VALUE=DATE:20180312
DTSTAMP:20260421T185156
CREATED:20180227T091546Z
LAST-MODIFIED:20180227T091546Z
UID:8210-1520553600-1520812799@aviationdirect.co.za
SUMMARY:Aero Clud Airweek
DESCRIPTION:This event will be planning for: \n• Spot landing competitions (for everything that got airborne\, including hot air balloons and gyrocopters\n• Fun rallies for all aircraft types and speeds (short duration introduction navigational rallies)\n• Fly markets (sell the aviation things you no longer need)\n• On airfield camping. Arrangements are being made for those who want to but do not want to carry a tent – just like Oshkosh\, which will be managed by Neil Bowden. In addition\, I will be present with my trailer top camper for the two nights.\n• Drone racing\n• Forums on various topics\n• Introduction to Aerobatics – all classes and judging initiation\n• Balloon nightglows (needs to be seen) \nAnything that flies (except mosquitos) are welcome. This is an aviation event for aviators. Lots of Avgas available. Come showcase your plane and in turn get to look at all the things you wanted to. The sky will be kept as open as possible for you to fly\, take a friend for a flip.
URL:https://aviationdirect.co.za/event/aero-clud-airweek/
LOCATION:Middelburg Airfield
ORGANIZER;CN="Aero Club of SA":MAILTO:alan@aeroclub.org.za
END:VEVENT
BEGIN:VEVENT
DTSTART;TZID=Europe/Helsinki:20180302T080000
DTEND;TZID=Europe/Helsinki:20180303T170000
DTSTAMP:20260421T185156
CREATED:20180227T084723Z
LAST-MODIFIED:20180227T084723Z
UID:8207-1519977600-1520096400@aviationdirect.co.za
SUMMARY:SAC Western Cape Regionals and annual fly-in Swellendam Airfield
DESCRIPTION:
URL:https://aviationdirect.co.za/event/sac-western-cape-regionals-annual-fly-swellendam-airfield/
LOCATION:swellendam Airfield\, Western Cape\, South Africa
ORGANIZER;CN="Annie Boon":MAILTO:chunge@mweb.co.za
END:VEVENT
BEGIN:VEVENT
DTSTART;TZID=Europe/Helsinki:20180302T080000
DTEND;TZID=Europe/Helsinki:20180303T170000
DTSTAMP:20260421T185156
CREATED:20180227T083542Z
LAST-MODIFIED:20180227T083542Z
UID:8204-1519977600-1520096400@aviationdirect.co.za
SUMMARY:SAPFA Virginia Fun Rally
DESCRIPTION:
URL:https://aviationdirect.co.za/event/sapfa-virginia-fun-rally/
LOCATION:Virginia Airport\, Airport Street\, Durban North\, 4051\, South Africa\, Virginia Airport\, Airport Street\, Durban North\, 4051\, South Africa (map)\, Virginia \, KwaZulu Natal\, 4051\, South Africa
ORGANIZER;CN="Mary de Klerk":MAILTO:maryd@expandingbranding.co.za
END:VEVENT
BEGIN:VEVENT
DTSTART;VALUE=DATE:20180228
DTEND;VALUE=DATE:20180301
DTSTAMP:20260421T185156
CREATED:20180227T110420Z
LAST-MODIFIED:20180227T110420Z
UID:8237-1519776000-1519862399@aviationdirect.co.za
SUMMARY:Uitenhage Wings & Wheels Festival
DESCRIPTION:
URL:https://aviationdirect.co.za/event/uitenhage-wings-wheels-festival/
LOCATION:Uitenhage Airfield
ORGANIZER;CN="Lourens Kruger":MAILTO:imk@trlkomsa.net
END:VEVENT
BEGIN:VEVENT
DTSTART;VALUE=DATE:20171111
DTEND;VALUE=DATE:20171112
DTSTAMP:20260421T185156
CREATED:20171027T121256Z
LAST-MODIFIED:20171027T121256Z
UID:7444-1510358400-1510444799@aviationdirect.co.za
SUMMARY:BRAKPAN RADIAL & BIPLANE : 11 NOVEMBER 2017
DESCRIPTION:
URL:https://aviationdirect.co.za/event/brakpan-radial-biplane-11-november-2017/
END:VEVENT
BEGIN:VEVENT
DTSTART;VALUE=DATE:20171110
DTEND;VALUE=DATE:20171113
DTSTAMP:20260421T185156
CREATED:20171024T104200Z
LAST-MODIFIED:20171024T104200Z
UID:7400-1510272000-1510531199@aviationdirect.co.za
SUMMARY:Brits Flying Club Year End Fly In : 10-12 November 2017
DESCRIPTION:
URL:https://aviationdirect.co.za/event/brits-flying-club-year-end-fly-in-10-12-november-2017/
END:VEVENT
BEGIN:VEVENT
DTSTART;VALUE=DATE:20171110
DTEND;VALUE=DATE:20171113
DTSTAMP:20260421T185156
CREATED:20171024T102854Z
LAST-MODIFIED:20171024T103453Z
UID:7396-1510272000-1510531199@aviationdirect.co.za
SUMMARY:Goldfields Glider Fly In Weekend : 10-12 November 2017
DESCRIPTION:
URL:https://aviationdirect.co.za/event/goldfields-glider-fly-in-weekend/
END:VEVENT
BEGIN:VEVENT
DTSTART;VALUE=DATE:20171029
DTEND;VALUE=DATE:20171030
DTSTAMP:20260421T185156
CREATED:20171024T102446Z
LAST-MODIFIED:20171024T102446Z
UID:7389-1509235200-1509321599@aviationdirect.co.za
SUMMARY:Wonderboom Fly In : 29 October 2017 - Please register
DESCRIPTION:Register to join this event at https://waig.co.za/fly-in/
URL:https://aviationdirect.co.za/event/wonderboom-fly-in-29-october-2017-please-register/
ATTACH;FMTTYPE=image/jpeg:https://aviationdirect.co.za/wp-content/uploads/2017/10/Waig_Banner.jpg
END:VEVENT
BEGIN:VEVENT
DTSTART;VALUE=DATE:20171028
DTEND;VALUE=DATE:20171029
DTSTAMP:20260421T185156
CREATED:20171024T102650Z
LAST-MODIFIED:20171024T102650Z
UID:7393-1509148800-1509235199@aviationdirect.co.za
SUMMARY:Krugersdorp Flying Club @ Jack Taylor Airfield : Fly for Fodder Fly In : 28 October  2017
DESCRIPTION:
URL:https://aviationdirect.co.za/event/krugersdorp-flying-club-jack-taylor-airfield-fly-for-fodder-fly-in-28-october-2017/
END:VEVENT
END:VCALENDAR