BEGIN:VCALENDAR
VERSION:2.0
PRODID:-//Aviation Direct - ECPv6.15.20//NONSGML v1.0//EN
CALSCALE:GREGORIAN
METHOD:PUBLISH
X-WR-CALNAME:Aviation Direct
X-ORIGINAL-URL:https://aviationdirect.co.za
X-WR-CALDESC:Events for Aviation Direct
REFRESH-INTERVAL;VALUE=DURATION:PT1H
X-Robots-Tag:noindex
X-PUBLISHED-TTL:PT1H
BEGIN:VTIMEZONE
TZID:Europe/Helsinki
BEGIN:DAYLIGHT
TZOFFSETFROM:+0200
TZOFFSETTO:+0300
TZNAME:EEST
DTSTART:20150329T010000
END:DAYLIGHT
BEGIN:STANDARD
TZOFFSETFROM:+0300
TZOFFSETTO:+0200
TZNAME:EET
DTSTART:20151025T010000
END:STANDARD
BEGIN:DAYLIGHT
TZOFFSETFROM:+0200
TZOFFSETTO:+0300
TZNAME:EEST
DTSTART:20160327T010000
END:DAYLIGHT
BEGIN:STANDARD
TZOFFSETFROM:+0300
TZOFFSETTO:+0200
TZNAME:EET
DTSTART:20161030T010000
END:STANDARD
BEGIN:DAYLIGHT
TZOFFSETFROM:+0200
TZOFFSETTO:+0300
TZNAME:EEST
DTSTART:20170326T010000
END:DAYLIGHT
BEGIN:STANDARD
TZOFFSETFROM:+0300
TZOFFSETTO:+0200
TZNAME:EET
DTSTART:20171029T010000
END:STANDARD
BEGIN:DAYLIGHT
TZOFFSETFROM:+0200
TZOFFSETTO:+0300
TZNAME:EEST
DTSTART:20180325T010000
END:DAYLIGHT
BEGIN:STANDARD
TZOFFSETFROM:+0300
TZOFFSETTO:+0200
TZNAME:EET
DTSTART:20181028T010000
END:STANDARD
END:VTIMEZONE
BEGIN:VEVENT
DTSTART;VALUE=DATE:20170401
DTEND;VALUE=DATE:20170403
DTSTAMP:20260425T205823
CREATED:20161130T101953Z
LAST-MODIFIED:20161130T101953Z
UID:4774-1491004800-1491177599@aviationdirect.co.za
SUMMARY:SAC North West regionals
DESCRIPTION:
URL:https://aviationdirect.co.za/event/sac-north-west-regionals/
LOCATION:Klerksdorp
CATEGORIES:Regionals
ORGANIZER;CN="Annie Boon":MAILTO:chunge@mweb.co.za
END:VEVENT
BEGIN:VEVENT
DTSTART;TZID=Europe/Helsinki:20170331T080000
DTEND;TZID=Europe/Helsinki:20170401T170000
DTSTAMP:20260425T205823
CREATED:20161129T092651Z
LAST-MODIFIED:20161129T093017Z
UID:4764-1490947200-1491066000@aviationdirect.co.za
SUMMARY:Wings and Wheels Festival
DESCRIPTION:
URL:https://aviationdirect.co.za/event/wings-and-wheels-festival/
LOCATION:Uitenhage Airfield
CATEGORIES:Airshow
ORGANIZER;CN="Lourens Kruger":MAILTO:imk@trlkomsa.net
END:VEVENT
BEGIN:VEVENT
DTSTART;VALUE=DATE:20170330
DTEND;VALUE=DATE:20170410
DTSTAMP:20260425T205823
CREATED:20161129T091808Z
LAST-MODIFIED:20161129T091808Z
UID:4758-1490832000-1491782399@aviationdirect.co.za
SUMMARY:Stars of Sandstone Festival - Spectacular steam and vintage heritage
DESCRIPTION:
URL:https://aviationdirect.co.za/event/stars-of-sandstone-festival-spectacular-steam-and-vintage-heritage/
LOCATION:Ficksburg
CATEGORIES:Airshow
ORGANIZER;CN="Larissa Clarke":MAILTO:lclarke@sandstone.co.za
END:VEVENT
BEGIN:VEVENT
DTSTART;VALUE=DATE:20170325
DTEND;VALUE=DATE:20170326
DTSTAMP:20260425T205823
CREATED:20170227T133345Z
LAST-MODIFIED:20170227T133345Z
UID:5535-1490400000-1490486399@aviationdirect.co.za
SUMMARY:SkyClass scenic vintage airliner flights
DESCRIPTION:
URL:https://aviationdirect.co.za/event/skyclass-scenic-vintage-airliner-flights/
LOCATION:Rand Airport\, Hangar 50\, Hurricane Road\, Rand Airport\, Germiston\, South Africa
CATEGORIES:Fun
ORGANIZER;CN="SkyClass":MAILTO:enquiries@flyskyclass.com
END:VEVENT
BEGIN:VEVENT
DTSTART;VALUE=DATE:20170317
DTEND;VALUE=DATE:20170320
DTSTAMP:20260425T205823
CREATED:20170227T131932Z
LAST-MODIFIED:20170227T131932Z
UID:5533-1489708800-1489967999@aviationdirect.co.za
SUMMARY:SA Navy Festival
DESCRIPTION:  \nContact Doreen Oosthuizen E-mail: navyfest.stalls@sanavy.co.za
URL:https://aviationdirect.co.za/event/sa-navy-festival/
CATEGORIES:Expo,Fun
END:VEVENT
BEGIN:VEVENT
DTSTART;VALUE=DATE:20170310
DTEND;VALUE=DATE:20170313
DTSTAMP:20260425T205823
CREATED:20170227T121050Z
LAST-MODIFIED:20170227T121050Z
UID:5531-1489104000-1489363199@aviationdirect.co.za
SUMMARY:The Aero Club Air Week
DESCRIPTION: 
URL:https://aviationdirect.co.za/event/the-aero-club-air-week-2/
LOCATION:Parys Airfield
CATEGORIES:Airshow,Expo,Fun
ORGANIZER;CN="Aero Club of SA":MAILTO:alan@aeroclub.org.za
END:VEVENT
BEGIN:VEVENT
DTSTART;VALUE=DATE:20170306
DTEND;VALUE=DATE:20170313
DTSTAMP:20260425T205823
CREATED:20161118T102826Z
LAST-MODIFIED:20170227T114957Z
UID:4676-1488758400-1489363199@aviationdirect.co.za
SUMMARY:iWOAW
DESCRIPTION:
URL:https://aviationdirect.co.za/event/iwoaw/
CATEGORIES:Fun
END:VEVENT
BEGIN:VEVENT
DTSTART;VALUE=DATE:20170306
DTEND;VALUE=DATE:20170310
DTSTAMP:20260425T205823
CREATED:20170228T070806Z
LAST-MODIFIED:20170228T071918Z
UID:5539-1488758400-1489103999@aviationdirect.co.za
SUMMARY:HAI HELI-EXPO
DESCRIPTION:
URL:https://aviationdirect.co.za/event/hai-heli-expo-2/
LOCATION:Dallas\, Texas\, USA
CATEGORIES:Airshow,Expo
END:VEVENT
BEGIN:VEVENT
DTSTART;VALUE=DATE:20170306
DTEND;VALUE=DATE:20170310
DTSTAMP:20260425T205823
CREATED:20161130T102503Z
LAST-MODIFIED:20170227T115303Z
UID:4782-1488758400-1489103999@aviationdirect.co.za
SUMMARY:HAI HELI-EXPO
DESCRIPTION:
URL:https://aviationdirect.co.za/event/hai-heli-expo/
LOCATION:Dallas\, Texas\, USA
CATEGORIES:Airshow,Expo
ORGANIZER;CN="Karen Gebhart":MAILTO:karen.gebhart@rotor.org
END:VEVENT
BEGIN:VEVENT
DTSTART;VALUE=DATE:20170304
DTEND;VALUE=DATE:20170305
DTSTAMP:20260425T205823
CREATED:20170227T100942Z
LAST-MODIFIED:20170227T102212Z
UID:5521-1488585600-1488671999@aviationdirect.co.za
SUMMARY:SAPFA Durban Wings Club Fun Rally
DESCRIPTION:
URL:https://aviationdirect.co.za/event/sapfa-durban-wings-club-fun-rally/
LOCATION:Virginia Airport\, Airport Street\, Durban North\, 4051\, South Africa\, Virginia Airport\, Airport Street\, Durban North\, 4051\, South Africa (map)\, Virginia \, KwaZulu Natal\, 4051\, South Africa
CATEGORIES:Fun
END:VEVENT
BEGIN:VEVENT
DTSTART;VALUE=DATE:20170227
DTEND;VALUE=DATE:20170228
DTSTAMP:20260425T205823
CREATED:20170227T083843Z
LAST-MODIFIED:20170227T083843Z
UID:4768-1488153600-1488239999@aviationdirect.co.za
SUMMARY:SAC North West regionals
DESCRIPTION:
URL:https://aviationdirect.co.za/event/sac-north-west-regionals-2/
CATEGORIES:Regionals
END:VEVENT
BEGIN:VEVENT
DTSTART;VALUE=DATE:20170222
DTEND;VALUE=DATE:20170224
DTSTAMP:20260425T205823
CREATED:20161129T083144Z
LAST-MODIFIED:20161129T083144Z
UID:4750-1487721600-1487894399@aviationdirect.co.za
SUMMARY:Aviation Africa 2017
DESCRIPTION:
URL:https://aviationdirect.co.za/event/aviation-africa-2017/
LOCATION:Kigali International Convention Centre\, Rwanda
CATEGORIES:Conference/ Meeting
ORGANIZER;CN="Mark Brown":MAILTO:mark.brown@africanaerospace.aero
END:VEVENT
BEGIN:VEVENT
DTSTART;TZID=Europe/Helsinki:20170211T080000
DTEND;TZID=Europe/Helsinki:20170212T170000
DTSTAMP:20260425T205823
CREATED:20161129T082137Z
LAST-MODIFIED:20161129T082137Z
UID:4744-1486800000-1486918800@aviationdirect.co.za
SUMMARY:SAC regional championships
DESCRIPTION:Contact Pieter Venter E-mail: pventer@vgv.co.za \n 
URL:https://aviationdirect.co.za/event/sac-regional-championships/
CATEGORIES:Championships
END:VEVENT
BEGIN:VEVENT
DTSTART;VALUE=DATE:20170210
DTEND;VALUE=DATE:20170213
DTSTAMP:20260425T205823
CREATED:20161129T083446Z
LAST-MODIFIED:20161129T083446Z
UID:4754-1486684800-1486943999@aviationdirect.co.za
SUMMARY:The Aero Club Air Week
DESCRIPTION:
URL:https://aviationdirect.co.za/event/the-aero-club-air-week/
LOCATION:Parys Airfield
CATEGORIES:Airshow
ORGANIZER;CN="Sandra Strydom":MAILTO:office@aeroclub.org.za
END:VEVENT
BEGIN:VEVENT
DTSTART;VALUE=DATE:20170121
DTEND;VALUE=DATE:20170123
DTSTAMP:20260425T205823
CREATED:20161129T071328Z
LAST-MODIFIED:20161129T071328Z
UID:4706-1484956800-1485129599@aviationdirect.co.za
SUMMARY:SAC Judges’ Trophy
DESCRIPTION:
URL:https://aviationdirect.co.za/event/sac-judges-trophy/
CATEGORIES:Conference/ Meeting
END:VEVENT
BEGIN:VEVENT
DTSTART;VALUE=DATE:20170118
DTEND;VALUE=DATE:20170121
DTSTAMP:20260425T205823
CREATED:20170105T072745Z
LAST-MODIFIED:20170126T130855Z
UID:5092-1484697600-1484956799@aviationdirect.co.za
SUMMARY:Modern Airports Africa 2017
DESCRIPTION:
URL:https://aviationdirect.co.za/event/modern-airports-africa-2017/
LOCATION:Villa Rosa Kempinski\, Nairobi\, Kenya\, Kenya
CATEGORIES:Conference/ Meeting
ORGANIZER;CN="Summaya Badbess":MAILTO:enquiry@iqpc.ae
END:VEVENT
BEGIN:VEVENT
DTSTART;VALUE=DATE:20161207
DTEND;VALUE=DATE:20161208
DTSTAMP:20260425T205823
CREATED:20161128T062155Z
LAST-MODIFIED:20161128T062155Z
UID:4731-1481068800-1481155199@aviationdirect.co.za
SUMMARY:International Civil Aviation Day (ICAD)
DESCRIPTION:
URL:https://aviationdirect.co.za/event/international-civil-aviation-day-icad-2/
CATEGORIES:International Civil Aviation Day
ORGANIZER;CN="Mark Swarts":MAILTO: swartsm@caa.co.za
END:VEVENT
BEGIN:VEVENT
DTSTART;VALUE=DATE:20161203
DTEND;VALUE=DATE:20161205
DTSTAMP:20260425T205823
CREATED:20161128T061821Z
LAST-MODIFIED:20161128T061821Z
UID:4727-1480723200-1480895999@aviationdirect.co.za
SUMMARY:SAC ACE of Base\, Bara G
DESCRIPTION:
URL:https://aviationdirect.co.za/event/sac-ace-of-base-bara-g/
LOCATION:Baragwanath Airfield
CATEGORIES:Airshow
END:VEVENT
BEGIN:VEVENT
DTSTART;VALUE=DATE:20161119
DTEND;VALUE=DATE:20161120
DTSTAMP:20260425T205823
CREATED:20161129T082842Z
LAST-MODIFIED:20161129T082842Z
UID:4693-1479513600-1479599999@aviationdirect.co.za
SUMMARY:Bob Hay Fun Rally
DESCRIPTION:https://www.facebook.com/events/1792462117697942/
URL:https://aviationdirect.co.za/event/bob-hay-fun-rally/
CATEGORIES:Fun
END:VEVENT
BEGIN:VEVENT
DTSTART;TZID=Europe/Helsinki:20161118T080000
DTEND;TZID=Europe/Helsinki:20161120T170000
DTSTAMP:20260425T205823
CREATED:20161122T065022Z
LAST-MODIFIED:20161128T062309Z
UID:4689-1479456000-1479661200@aviationdirect.co.za
SUMMARY:Mafeking fly in and hangar dance
DESCRIPTION:
URL:https://aviationdirect.co.za/event/mafeking-fly-in-and-hangar-dance-2/
LOCATION:Mafikeng flying club
CATEGORIES:Fun
ORGANIZER;CN="":MAILTO:info@mafikeng-flyingclub.co.za
END:VEVENT
BEGIN:VEVENT
DTSTART;TZID=Europe/Helsinki:20161118T080000
DTEND;TZID=Europe/Helsinki:20161118T170000
DTSTAMP:20260425T205823
CREATED:20161118T102826Z
LAST-MODIFIED:20161118T102826Z
UID:4673-1479456000-1479488400@aviationdirect.co.za
SUMMARY:Women of Aviation world wide week
DESCRIPTION:
URL:https://aviationdirect.co.za/event/women-of-aviation-world-wide-week/
LOCATION:International
CATEGORIES:Airshow,fly-in,Fun,Military
END:VEVENT
BEGIN:VEVENT
DTSTART;VALUE=DATE:20161110
DTEND;VALUE=DATE:20161218
DTSTAMP:20260425T205823
CREATED:20161118T105255Z
LAST-MODIFIED:20161122T064842Z
UID:4678-1478736000-1482019199@aviationdirect.co.za
SUMMARY:Crete 2 Cape - Vintage Air Rally
DESCRIPTION:https://www.vintageairrally.com/images/C2C_Itinerary.pdf
URL:https://aviationdirect.co.za/event/crete-2-cape-vintage-air-rally/
LOCATION:Cape to Crete\, Cape Town
CATEGORIES:Fun
ORGANIZER;CN="":MAILTO:sam@prepare2go.com
END:VEVENT
END:VCALENDAR